BEGIN:VCALENDAR
VERSION:2.0
PRODID:-//liebevoll-vernetzt.de - ECPv6.15.20//NONSGML v1.0//EN
CALSCALE:GREGORIAN
METHOD:PUBLISH
X-WR-CALNAME:liebevoll-vernetzt.de
X-ORIGINAL-URL:https://liebevoll-vernetzt.de
X-WR-CALDESC:Veranstaltungen für liebevoll-vernetzt.de
REFRESH-INTERVAL;VALUE=DURATION:PT1H
X-Robots-Tag:noindex
X-PUBLISHED-TTL:PT1H
BEGIN:VTIMEZONE
TZID:Europe/Berlin
BEGIN:DAYLIGHT
TZOFFSETFROM:+0100
TZOFFSETTO:+0200
TZNAME:CEST
DTSTART:20250330T010000
END:DAYLIGHT
BEGIN:STANDARD
TZOFFSETFROM:+0200
TZOFFSETTO:+0100
TZNAME:CET
DTSTART:20251026T010000
END:STANDARD
BEGIN:DAYLIGHT
TZOFFSETFROM:+0100
TZOFFSETTO:+0200
TZNAME:CEST
DTSTART:20260329T010000
END:DAYLIGHT
BEGIN:STANDARD
TZOFFSETFROM:+0200
TZOFFSETTO:+0100
TZNAME:CET
DTSTART:20261025T010000
END:STANDARD
BEGIN:DAYLIGHT
TZOFFSETFROM:+0100
TZOFFSETTO:+0200
TZNAME:CEST
DTSTART:20270328T010000
END:DAYLIGHT
BEGIN:STANDARD
TZOFFSETFROM:+0200
TZOFFSETTO:+0100
TZNAME:CET
DTSTART:20271031T010000
END:STANDARD
END:VTIMEZONE
BEGIN:VEVENT
DTSTART;VALUE=DATE:20260109
DTEND;VALUE=DATE:20260110
DTSTAMP:20260421T212115
CREATED:20251124T144146Z
LAST-MODIFIED:20251124T144146Z
UID:2579-1767916800-1768003199@liebevoll-vernetzt.de
SUMMARY:Neuheiten Event
DESCRIPTION:
URL:https://liebevoll-vernetzt.de/event/neuheiten-event/
LOCATION:Mundingen Beauty Lounge\, 79312
CATEGORIES:Events & Feste
ATTACH;FMTTYPE=image/png:https://liebevoll-vernetzt.de/wp-content/uploads/2025/11/1000564853.png
ORGANIZER;CN="Ramona Grafm%C3%BCller":MAILTO:ramona.beautyexpertin@gmail.com
END:VEVENT
END:VCALENDAR