BEGIN:VCALENDAR
VERSION:2.0
PRODID:-//liebevoll-vernetzt.de - ECPv6.15.20//NONSGML v1.0//EN
CALSCALE:GREGORIAN
METHOD:PUBLISH
X-ORIGINAL-URL:https://liebevoll-vernetzt.de
X-WR-CALDESC:Veranstaltungen für liebevoll-vernetzt.de
REFRESH-INTERVAL;VALUE=DURATION:PT1H
X-Robots-Tag:noindex
X-PUBLISHED-TTL:PT1H
BEGIN:VTIMEZONE
TZID:Europe/Berlin
BEGIN:DAYLIGHT
TZOFFSETFROM:+0100
TZOFFSETTO:+0200
TZNAME:CEST
DTSTART:20240331T010000
END:DAYLIGHT
BEGIN:STANDARD
TZOFFSETFROM:+0200
TZOFFSETTO:+0100
TZNAME:CET
DTSTART:20241027T010000
END:STANDARD
BEGIN:DAYLIGHT
TZOFFSETFROM:+0100
TZOFFSETTO:+0200
TZNAME:CEST
DTSTART:20250330T010000
END:DAYLIGHT
BEGIN:STANDARD
TZOFFSETFROM:+0200
TZOFFSETTO:+0100
TZNAME:CET
DTSTART:20251026T010000
END:STANDARD
BEGIN:DAYLIGHT
TZOFFSETFROM:+0100
TZOFFSETTO:+0200
TZNAME:CEST
DTSTART:20260329T010000
END:DAYLIGHT
BEGIN:STANDARD
TZOFFSETFROM:+0200
TZOFFSETTO:+0100
TZNAME:CET
DTSTART:20261025T010000
END:STANDARD
END:VTIMEZONE
BEGIN:VEVENT
DTSTART;TZID=Europe/Berlin:20250310T183000
DTEND;TZID=Europe/Berlin:20250310T203000
DTSTAMP:20260425T060904
CREATED:20250218T140453Z
LAST-MODIFIED:20250218T142434Z
UID:1590-1741631400-1741638600@liebevoll-vernetzt.de
SUMMARY:Online Netzwerktreffen
DESCRIPTION:
URL:https://liebevoll-vernetzt.de/event/online-netzwerktreffen/
LOCATION:Zoom
CATEGORIES:Netzwerktreffen
ATTACH;FMTTYPE=image/jpeg:https://liebevoll-vernetzt.de/wp-content/uploads/2025/01/Netzwerktreffen.jpg
END:VEVENT
BEGIN:VEVENT
DTSTART;TZID=Europe/Berlin:20250318T193000
DTEND;TZID=Europe/Berlin:20250318T210000
DTSTAMP:20260425T060904
CREATED:20250317T084337Z
LAST-MODIFIED:20250317T084337Z
UID:1831-1742326200-1742331600@liebevoll-vernetzt.de
SUMMARY:Online Netzwerktreffen
DESCRIPTION:
URL:https://liebevoll-vernetzt.de/event/online-netzwerktreffen-2/
LOCATION:Zoom
CATEGORIES:Netzwerktreffen
ATTACH;FMTTYPE=image/jpeg:https://liebevoll-vernetzt.de/wp-content/uploads/2025/01/Netzwerktreffen.jpg
END:VEVENT
BEGIN:VEVENT
DTSTART;TZID=Europe/Berlin:20250320T100000
DTEND;TZID=Europe/Berlin:20250320T113000
DTSTAMP:20260425T060904
CREATED:20250317T084552Z
LAST-MODIFIED:20250317T084553Z
UID:1833-1742464800-1742470200@liebevoll-vernetzt.de
SUMMARY:Online Netzwerktreffen
DESCRIPTION:
URL:https://liebevoll-vernetzt.de/event/online-netzwerktreffen-3/
LOCATION:Zoom
CATEGORIES:Netzwerktreffen
ATTACH;FMTTYPE=image/jpeg:https://liebevoll-vernetzt.de/wp-content/uploads/2025/01/Netzwerktreffen.jpg
END:VEVENT
BEGIN:VEVENT
DTSTART;TZID=Europe/Berlin:20250326T090000
DTEND;TZID=Europe/Berlin:20250326T103000
DTSTAMP:20260425T060904
CREATED:20250317T084751Z
LAST-MODIFIED:20250317T084751Z
UID:1835-1742979600-1742985000@liebevoll-vernetzt.de
SUMMARY:Online Netzwerktreffen
DESCRIPTION:
URL:https://liebevoll-vernetzt.de/event/online-netzwerktreffen-4/
LOCATION:Zoom
CATEGORIES:Netzwerktreffen
ATTACH;FMTTYPE=image/jpeg:https://liebevoll-vernetzt.de/wp-content/uploads/2025/01/Netzwerktreffen.jpg
END:VEVENT
END:VCALENDAR